BEGIN:VCALENDAR
VERSION:2.0
PRODID:-//wp-events-plugin.com//7.2.3.1//EN
TZID:Europe/Berlin
X-WR-TIMEZONE:Europe/Berlin
BEGIN:VEVENT
UID:44@vivid.at
DTSTART;TZID=Europe/Vienna:20260428T090000
DTEND;TZID=Europe/Vienna:20260428T170000
DTSTAMP:20260313T062111Z
URL:https://www.vivid.at/events/praekom-seminar-umgang-mit-drogenkonsumier
 enden-jugendlichen/
SUMMARY:PRÄKOM-Seminar: Umgang mit drogenkonsumierenden Jugendlichen
DESCRIPTION:In diesem Seminar werden anhand von Fallbeispielen Konzepte\, M
 ethoden und Werkzeuge für den Umgang mit konsumierenden Jugendlichen vorg
 estellt.\n\nDie Teilnahmeplätze werden nach Anmeldeschluss (25. März 202
 6) unter allen angemeldeten Personen nach dem Zufallsprinzip vergeben. Anm
 eldungen von Einrichtungen in der Obersteiermark (Bezirke BM\, LE\, LI\, M
 T\, MU) haben dabei Vorrang.\n\nPersonen\, die im Rahmen der PRÄKOM-Semin
 arreihe bereits eine suchtpräventive Schwerpunktaktivität umgesetzt habe
 n\, können einen Fixplatz in Anspruch nehmen.\n\nNähere Informationen zu
  dieser Veranstaltung
ATTACH;FMTTYPE=image/jpeg:https://www.vivid.at/wp-content/uploads/2026/03/
 iStock_6okean.jpg
CATEGORIES:VOR ORT
LOCATION:Museumsturm im Kultur Quartier Leoben\, Leopoldine-Pohl-Platz 1\, 
 Leoben\,  8700 \, Österreich
X-APPLE-STRUCTURED-LOCATION;VALUE=URI;X-ADDRESS=Leopoldine-Pohl-Platz 1\, L
 eoben\,  8700 \, Österreich;X-APPLE-RADIUS=100;X-TITLE=Museumsturm im Kul
 tur Quartier Leoben:geo:0,0
END:VEVENT
BEGIN:VTIMEZONE
TZID:Europe/Vienna
X-LIC-LOCATION:Europe/Vienna
BEGIN:DAYLIGHT
DTSTART:20260329T030000
TZOFFSETFROM:+0100
TZOFFSETTO:+0200
TZNAME:CEST
END:DAYLIGHT
END:VTIMEZONE
END:VCALENDAR