BEGIN:VCALENDAR
VERSION:2.0
PRODID:-//wp-events-plugin.com//7.2.3.1//EN
TZID:Europe/Berlin
X-WR-TIMEZONE:Europe/Berlin
BEGIN:VEVENT
UID:44@vivid.at
DTSTART;TZID=Europe/Vienna:20260428T090000
DTEND;TZID=Europe/Vienna:20260428T170000
DTSTAMP:20260420T135215Z
URL:https://www.vivid.at/events/praekom-seminar-umgang-mit-drogenkonsumier
 enden-jugendlichen/
SUMMARY:PRÄKOM-Seminar: Umgang mit drogenkonsumierenden Jugendlichen
DESCRIPTION:In diesem Seminar werden anhand von Fallbeispielen Konzepte\, M
 ethoden und Werkzeuge für den Umgang mit konsumierenden Jugendlichen vorg
 estellt.\n\nDie Teilnahmeplätze werden nach Anmeldeschluss (25. März 202
 6) unter allen angemeldeten Personen nach dem Zufallsprinzip vergeben. Anm
 eldungen von Einrichtungen in der Obersteiermark (Bezirke BM\, LE\, LI\, M
 T\, MU) haben dabei Vorrang.\n\nPersonen\, die im Rahmen der PRÄKOM-Semin
 arreihe bereits eine suchtpräventive Schwerpunktaktivität umgesetzt habe
 n\, können einen Fixplatz in Anspruch nehmen.\n\nNähere Informationen zu
  dieser Veranstaltung
ATTACH;FMTTYPE=image/jpeg:https://www.vivid.at/wp-content/uploads/2026/03/
 iStock_6okean.jpg
CATEGORIES:VOR ORT
LOCATION:Museumsturm im Kultur Quartier Leoben\, Leopoldine-Pohl-Platz 1\, 
 Leoben\,  8700 \, Österreich
X-APPLE-STRUCTURED-LOCATION;VALUE=URI;X-ADDRESS=Leopoldine-Pohl-Platz 1\, L
 eoben\,  8700 \, Österreich;X-APPLE-RADIUS=100;X-TITLE=Museumsturm im Kul
 tur Quartier Leoben:geo:0,0
END:VEVENT
BEGIN:VEVENT
UID:46@vivid.at
DTSTART;TZID=Europe/Vienna:20260527T150000
DTEND;TZID=Europe/Vienna:20260527T163000
DTSTAMP:20260317T080841Z
URL:https://www.vivid.at/events/weltnichtrauchertag-2026-anmeldung/
SUMMARY:Informiert bleiben: Aktuelles zu Tabak und Nikotin
DESCRIPTION:Speziell für Gesundheitsberufe: Anlässlich des Weltnichtrauch
 ertags veranstaltet VIVID - Fachstelle für Suchtprävention am 27. Mai 20
 26 die Online-Tagung „Informiert bleiben: Aktuelles zu Tabak und Nikotin
 “.
ATTACH;FMTTYPE=image/jpeg:https://www.vivid.at/wp-content/uploads/2026/03/
 AdobeStock_266298128.jpg
CATEGORIES:ONLINE
LOCATION:https://us02web.zoom.us/j/89384331587?pwd=AfP5aERzDrP6fdMitK8TL6bV
 7FHmNb.1
END:VEVENT
BEGIN:VEVENT
UID:49@vivid.at
DTSTART;TZID=Europe/Vienna:20260625T090000
DTEND;TZID=Europe/Vienna:20260625T170000
DTSTAMP:20260420T121559Z
URL:https://www.vivid.at/events/praekom-seminar-gehfuehlen-gefuehlsregulat
 ion-als-suchtpraeventives-thema/
SUMMARY:PRÄKOM-Seminar: GEh!FÜHLEn – Gefühlsregulation als suchtpräve
 ntives Thema
DESCRIPTION:In diesem Seminar steht die Lebenskompetenz Umgang mit Emotione
 n im Fokus. Konkrete Methoden zur Förderung der Gefühlswahrnehmung und G
 efühlsregulation bei Jugendlichen werden vorgestellt und gemeinsam erprob
 t.\n\nDie Teilnahmeplätze werden nach Anmeldeschluss (15. Mai 2026) unter
  allen angemeldeten Personen nach dem Zufallsprinzip vergeben.\n\nPersonen
 \, die im Rahmen der PRÄKOM-Seminarreihe bereits eine suchtpräventive Sc
 hwerpunktaktivität umgesetzt haben\, können einen Fixplatz in Anspruch n
 ehmen.\n\nNähere Informationen zu dieser Veranstaltung
ATTACH;FMTTYPE=image/jpeg:https://www.vivid.at/wp-content/uploads/2026/04/
 smiley-pixabay_1920.jpg
CATEGORIES:VOR ORT
LOCATION:Bildungshaus Schloss St.Martin\, Kehlbergstraße 35\, Graz\, 8054 
 \, Österreich
X-APPLE-STRUCTURED-LOCATION;VALUE=URI;X-ADDRESS=Kehlbergstraße 35\, Graz\,
  8054 \, Österreich;X-APPLE-RADIUS=100;X-TITLE=Bildungshaus Schloss St.Ma
 rtin:geo:0,0
END:VEVENT
BEGIN:VEVENT
UID:48@vivid.at
DTSTART;TZID=Europe/Vienna:20260930T143000
DTEND;TZID=Europe/Vienna:20260930T183000
DTSTAMP:20260317T070617Z
URL:https://www.vivid.at/events/spielen-einmal-anders-spielzeugfrei-in-ele
 mentaren-bildungseinrichtungen-weiz/
SUMMARY:Spielen einmal anders - spielzeugfrei in elementaren Bildungseinric
 htungen (Weiz)
DESCRIPTION:Innovationszentrum 8160 Weiz | Franz-Pichler-Straße 30\n\nIn d
 iesem Seminar wird das Konzept "Spielen einmal anders" vorgestellt und üb
 er die Umsetzung in der Kinderkrippe und dem Kindergarten sowie weitere M
 öglichkeiten in der Praxis diskutiert.
CATEGORIES:8054 Graz,Hotel Süd,Stemmerweg 10,VOR ORT
END:VEVENT
BEGIN:VEVENT
UID:43@vivid.at
DTSTART;TZID=Europe/Vienna:20261007T143000
DTEND;TZID=Europe/Vienna:20261007T183000
DTSTAMP:20260421T113325Z
URL:https://www.vivid.at/events/gemeinsam-stark-werden_elementar/
SUMMARY:Gemeinsam stark werden_elementar
DESCRIPTION:Kinderschutzfortbildung\n\n5-teilige Seminarreihe für pädagog
 isches Fachpersonal aus Kinderkrippe und Kindergarten sowie Tageseltern.\n
 \n\n\n07.10.2026\n\n\n19.10.2026\n\n\n25.11.2026\n\n\n14.01.2027\n\n\n04.0
 2.2027\n\n\n\n14:30 bis 18:30\n\nFür die Umsetzung im pädagogischen Allt
 ag erhalten Sie als Gesamtpaket eine Mappe mit 140 Praxisbausteinen\, eine
 r Übersicht nach den Bildungsbereichen\, einem Gefühlskarten-Set\, Arbei
 tsmaterialien (Kopiervorlagen\, Liedern etc.) und einer theoretische Handr
 eichung.
ATTACH;FMTTYPE=image/jpeg:https://www.vivid.at/wp-content/uploads/2023/11/
 GSW_KBBE-scaled-e1699609776422.jpg
CATEGORIES:VOR ORT
END:VEVENT
BEGIN:VEVENT
UID:47@vivid.at
DTSTART;TZID=Europe/Vienna:20261013T143000
DTEND;TZID=Europe/Vienna:20261013T183000
DTSTAMP:20260317T070652Z
URL:https://www.vivid.at/events/spielen-einmal-anders-spielzeugfrei-in-ele
 mentaren-bildungseinrichtungen-graz/
SUMMARY:Spielen einmal anders - spielzeugfrei in elementaren Bildungseinric
 htungen (Graz)
DESCRIPTION:Hotel Süd\, Stemmerweg 10\, 8054 Graz\n\nIn diesem Seminar wir
 d das Konzept "Spielen einmal anders" vorgestellt und über die Umsetzung 
 in der Kinderkrippe und dem Kindergarten sowie weitere Möglichkeiten in d
 er Praxis diskutiert.
CATEGORIES:8054 Graz,Hotel Süd,Stemmerweg 10,VOR ORT
END:VEVENT
BEGIN:VTIMEZONE
TZID:Europe/Vienna
X-LIC-LOCATION:Europe/Vienna
BEGIN:DAYLIGHT
DTSTART:20260329T030000
TZOFFSETFROM:+0100
TZOFFSETTO:+0200
TZNAME:CEST
END:DAYLIGHT
END:VTIMEZONE
END:VCALENDAR